BEGIN:VCALENDAR
VERSION:2.0
PRODID:-//CERN//INDICO//EN
BEGIN:VEVENT
SUMMARY:A comprehensive analysis of a fully solvable quantum heat engine
DTSTART;VALUE=DATE-TIME:20190827T124500Z
DTEND;VALUE=DATE-TIME:20190827T131500Z
DTSTAMP;VALUE=DATE-TIME:20240229T213720Z
UID:indico-contribution-396@ictp.it
DESCRIPTION:Speakers: MARYAM AFSARY (Sharif University of Technology\, Teh
 ran)\n//indico.ictp.it/event/8714/session/89/contribution/396
LOCATION:ICTP Budinich Lecture Hall
URL://indico.ictp.it/event/8714/session/89/contribution/396
END:VEVENT
END:VCALENDAR
