BEGIN:VCALENDAR
VERSION:2.0
PRODID:-//CERN//INDICO//EN
BEGIN:VEVENT
SUMMARY:Quantum measurement as a thermodynamic resource
DTSTART;VALUE=DATE-TIME:20190828T074500Z
DTEND;VALUE=DATE-TIME:20190828T083000Z
DTSTAMP;VALUE=DATE-TIME:20240229T213651Z
UID:indico-contribution-401@ictp.it
DESCRIPTION:Speakers: MICHELE CAMPISI (University of Florence)\n//indico.i
 ctp.it/event/8714/session/90/contribution/401
LOCATION:ICTP Budinich Lecture Hall
URL://indico.ictp.it/event/8714/session/90/contribution/401
END:VEVENT
END:VCALENDAR
