BEGIN:VCALENDAR
VERSION:2.0
PRODID:-//CERN//INDICO//EN
BEGIN:VEVENT
SUMMARY:Autonomous entanglement engines: open questions when using the res
 et master equation
DTSTART;VALUE=DATE-TIME:20190830T070000Z
DTEND;VALUE=DATE-TIME:20190830T074500Z
DTSTAMP;VALUE=DATE-TIME:20240229T213722Z
UID:indico-contribution-414@ictp.it
DESCRIPTION:Speakers: GERALDINE HAACK (Université de Genève\, Switzerlan
 d)\n//indico.ictp.it/event/8714/session/92/contribution/414
LOCATION:ICTP Budinich Lecture Hall
URL://indico.ictp.it/event/8714/session/92/contribution/414
END:VEVENT
END:VCALENDAR
