BEGIN:VCALENDAR
VERSION:2.0
PRODID:-//CERN//INDICO//EN
BEGIN:VEVENT
SUMMARY:Tools and progress in experiments on thermodynamics with ion traps
DTSTART;VALUE=DATE-TIME:20190830T074500Z
DTEND;VALUE=DATE-TIME:20190830T083000Z
DTSTAMP;VALUE=DATE-TIME:20240229T213402Z
UID:indico-contribution-415@ictp.it
DESCRIPTION:Speakers: CHRISTIAN SCHMIEGELOW (Universidad de Buenos Aires)\
 n//indico.ictp.it/event/8714/session/92/contribution/415
LOCATION:ICTP Budinich Lecture Hall
URL://indico.ictp.it/event/8714/session/92/contribution/415
END:VEVENT
END:VCALENDAR
