BEGIN:VCALENDAR
VERSION:2.0
PRODID:-//CERN//INDICO//EN
BEGIN:VEVENT
SUMMARY:Coherence orders\, decoherence\, and quantum metrology
DTSTART;VALUE=DATE-TIME:20190830T100000Z
DTEND;VALUE=DATE-TIME:20190830T103000Z
DTSTAMP;VALUE=DATE-TIME:20240229T213404Z
UID:indico-contribution-418@ictp.it
DESCRIPTION:Speakers: DIEGO PIRES (Federal University of Rio Grande do Nor
 te\, (Natal)\n//indico.ictp.it/event/8714/session/92/contribution/418
LOCATION:ICTP Budinich Lecture Hall
URL://indico.ictp.it/event/8714/session/92/contribution/418
END:VEVENT
END:VCALENDAR
