BEGIN:VCALENDAR
VERSION:2.0
PRODID:-//CERN//INDICO//EN
BEGIN:VEVENT
SUMMARY:Registration and Administrative formalities
DTSTART;VALUE=DATE-TIME:20190812T070000Z
DTEND;VALUE=DATE-TIME:20190812T080000Z
DTSTAMP;VALUE=DATE-TIME:20240229T213407Z
UID:indico-contribution-76-0-339@ictp.it
DESCRIPTION:Speakers: \nREGISTRATION: Upon arrival\, Visitors not staying 
 in the ICTP Guest Houses\, are kindly requested  to complete registration 
 formalities at the   \nLeonardo Building Lobby from 9.00 till 10.00\nTRAVE
 L UNIT (Only for those Visitors receiving daily living allowance/travel re
 imbursement\, who  have not provided their bank account data through the o
 n-line portal): after having completed    registration formalities\, pleas
 e go to the Travel Unit\, Enrico Fermi Building\, Main Entrance\,    Room 
 T17\, ground floor\, open on Monday and Friday\, 08.30 - 12.00  and 13.30 
 - 14.30\nPlease bring with you: badge/identity card or passport\, any trav
 el ticket and boarding passes.\n\n//indico.ictp.it/event/8714/session/76/c
 ontribution/339
LOCATION: Leonardo Building-Lobby
URL://indico.ictp.it/event/8714/session/76/contribution/339
END:VEVENT
BEGIN:VEVENT
SUMMARY:Opening Remarks
DTSTART;VALUE=DATE-TIME:20190812T083000Z
DTEND;VALUE=DATE-TIME:20190812T090000Z
DTSTAMP;VALUE=DATE-TIME:20240229T213407Z
UID:indico-contribution-76-0-340@ictp.it
DESCRIPTION:Speakers: \n//indico.ictp.it/event/8714/session/76/contributio
 n/340
LOCATION:ICTP Budinich Lecture Hall
URL://indico.ictp.it/event/8714/session/76/contribution/340
END:VEVENT
BEGIN:VEVENT
SUMMARY:Charge and energy transport in driven electron systems - 1
DTSTART;VALUE=DATE-TIME:20190812T090000Z
DTEND;VALUE=DATE-TIME:20190812T103000Z
DTSTAMP;VALUE=DATE-TIME:20240229T213407Z
UID:indico-contribution-76-0-341@ictp.it
DESCRIPTION:Speakers: JANINE SPLETTSTOESER (Chalmers University of Technol
 ogy)\n//indico.ictp.it/event/8714/session/76/contribution/341
LOCATION:ICTP Budinich Lecture Hall
URL://indico.ictp.it/event/8714/session/76/contribution/341
END:VEVENT
BEGIN:VEVENT
SUMMARY:Quantum dissipation 1
DTSTART;VALUE=DATE-TIME:20190812T123000Z
DTEND;VALUE=DATE-TIME:20190812T140000Z
DTSTAMP;VALUE=DATE-TIME:20240229T213407Z
UID:indico-contribution-76-0-342@ictp.it
DESCRIPTION:Speakers: ROSARIO FAZIO (ICTP)\n//indico.ictp.it/event/8714/se
 ssion/76/contribution/342
LOCATION:ICTP Budinich Lecture Hall
URL://indico.ictp.it/event/8714/session/76/contribution/342
END:VEVENT
BEGIN:VEVENT
SUMMARY:Informal discussions
DTSTART;VALUE=DATE-TIME:20190812T143000Z
DTEND;VALUE=DATE-TIME:20190812T153000Z
DTSTAMP;VALUE=DATE-TIME:20240229T213407Z
UID:indico-contribution-76-0-343@ictp.it
DESCRIPTION:Speakers: \n//indico.ictp.it/event/8714/session/76/contributio
 n/343
LOCATION:ICTP Budinich Lecture Hall
URL://indico.ictp.it/event/8714/session/76/contribution/343
END:VEVENT
END:VCALENDAR
