BEGIN:VCALENDAR
VERSION:2.0
PRODID:-//CERN//INDICO//EN
BEGIN:VEVENT
SUMMARY:Quantum Floquet engineering 3
DTSTART;VALUE=DATE-TIME:20190822T070000Z
DTEND;VALUE=DATE-TIME:20190822T083000Z
DTSTAMP;VALUE=DATE-TIME:20240229T213434Z
UID:indico-contribution-85-0-370@ictp.it
DESCRIPTION:Speakers: ANATOLI POLKOVNIKOV (Boston University)\n//indico.ic
 tp.it/event/8714/session/85/contribution/370
LOCATION:ICTP Budinich Lecture Hall
URL://indico.ictp.it/event/8714/session/85/contribution/370
END:VEVENT
BEGIN:VEVENT
SUMMARY:Quantum thermoelectricity (theory) 2
DTSTART;VALUE=DATE-TIME:20190822T090000Z
DTEND;VALUE=DATE-TIME:20190822T103000Z
DTSTAMP;VALUE=DATE-TIME:20240229T213434Z
UID:indico-contribution-85-0-371@ictp.it
DESCRIPTION:Speakers: GIULIANO BENENTI (Università degli Studi dell'Insub
 ria)\n//indico.ictp.it/event/8714/session/85/contribution/371
LOCATION:ICTP Budinich Lecture Hall
URL://indico.ictp.it/event/8714/session/85/contribution/371
END:VEVENT
BEGIN:VEVENT
SUMMARY:Quantum fluctuation-dissipation relations 2
DTSTART;VALUE=DATE-TIME:20190822T123000Z
DTEND;VALUE=DATE-TIME:20190822T140000Z
DTSTAMP;VALUE=DATE-TIME:20240229T213434Z
UID:indico-contribution-85-0-372@ictp.it
DESCRIPTION:Speakers: JUAN PARRONDO (Universidad Complutense de Madrid\, S
 pain)\n//indico.ictp.it/event/8714/session/85/contribution/372
LOCATION:ICTP Budinich Lecture Hall
URL://indico.ictp.it/event/8714/session/85/contribution/372
END:VEVENT
BEGIN:VEVENT
SUMMARY:Posters and discussions
DTSTART;VALUE=DATE-TIME:20190822T143000Z
DTEND;VALUE=DATE-TIME:20190822T163000Z
DTSTAMP;VALUE=DATE-TIME:20240229T213434Z
UID:indico-contribution-85-0-373@ictp.it
DESCRIPTION:Speakers: \n//indico.ictp.it/event/8714/session/85/contributio
 n/373
LOCATION:ICTP Budinich Lecture Hall
URL://indico.ictp.it/event/8714/session/85/contribution/373
END:VEVENT
END:VCALENDAR
