BEGIN:VCALENDAR
VERSION:2.0
PRODID:-//CERN//INDICO//EN
BEGIN:VEVENT
SUMMARY:Non-equilibrium impurities: Fluctuation Induced Quantum Zeno Effec
 t in Ultracold Atomic Wires
DTSTART;VALUE=DATE-TIME:20190828T070000Z
DTEND;VALUE=DATE-TIME:20190828T074500Z
DTSTAMP;VALUE=DATE-TIME:20240229T213623Z
UID:indico-contribution-90-0-400@ictp.it
DESCRIPTION:Speakers: SEBASTIAN DIEHL (University of Cologne)\n//indico.ic
 tp.it/event/8714/session/90/contribution/400
LOCATION:ICTP Budinich Lecture Hall
URL://indico.ictp.it/event/8714/session/90/contribution/400
END:VEVENT
BEGIN:VEVENT
SUMMARY:Quantum measurement as a thermodynamic resource
DTSTART;VALUE=DATE-TIME:20190828T074500Z
DTEND;VALUE=DATE-TIME:20190828T083000Z
DTSTAMP;VALUE=DATE-TIME:20240229T213623Z
UID:indico-contribution-90-0-401@ictp.it
DESCRIPTION:Speakers: MICHELE CAMPISI (University of Florence)\n//indico.i
 ctp.it/event/8714/session/90/contribution/401
LOCATION:ICTP Budinich Lecture Hall
URL://indico.ictp.it/event/8714/session/90/contribution/401
END:VEVENT
BEGIN:VEVENT
SUMMARY:Quantum Signatures in the Work Distribution
DTSTART;VALUE=DATE-TIME:20190828T090000Z
DTEND;VALUE=DATE-TIME:20190828T093000Z
DTSTAMP;VALUE=DATE-TIME:20240229T213623Z
UID:indico-contribution-90-0-402@ictp.it
DESCRIPTION:Speakers: MARTI PERARNAU LLOBET (Max Planck Institute for Quan
 tum Optics\, Munchen)\n//indico.ictp.it/event/8714/session/90/contribution
 /402
LOCATION:ICTP Budinich Lecture Hall
URL://indico.ictp.it/event/8714/session/90/contribution/402
END:VEVENT
BEGIN:VEVENT
SUMMARY:Quantum Martingale Theory and Entropy Production
DTSTART;VALUE=DATE-TIME:20190828T093000Z
DTEND;VALUE=DATE-TIME:20190828T100000Z
DTSTAMP;VALUE=DATE-TIME:20240229T213623Z
UID:indico-contribution-90-0-403@ictp.it
DESCRIPTION:Speakers: PAULE GONZALO MANZANO (ICTP\, Trieste)\n//indico.ict
 p.it/event/8714/session/90/contribution/403
LOCATION:ICTP Budinich Lecture Hall
URL://indico.ictp.it/event/8714/session/90/contribution/403
END:VEVENT
BEGIN:VEVENT
SUMMARY:Thermodynamic Uncertainty relations as a consequence of fluctuatio
 n theorems
DTSTART;VALUE=DATE-TIME:20190828T100000Z
DTEND;VALUE=DATE-TIME:20190828T103000Z
DTSTAMP;VALUE=DATE-TIME:20240229T213623Z
UID:indico-contribution-90-0-404@ictp.it
DESCRIPTION:Speakers: GABRIEL LANDI (Universidad de Sao Paulo)\n//indico.i
 ctp.it/event/8714/session/90/contribution/404
LOCATION:ICTP Budinich Lecture Hall
URL://indico.ictp.it/event/8714/session/90/contribution/404
END:VEVENT
BEGIN:VEVENT
SUMMARY:Quantum thermodynamic devices under control
DTSTART;VALUE=DATE-TIME:20190828T120000Z
DTEND;VALUE=DATE-TIME:20190828T124500Z
DTSTAMP;VALUE=DATE-TIME:20240229T213623Z
UID:indico-contribution-90-0-405@ictp.it
DESCRIPTION:Speakers: GERSHON KURIZKI (Weizman Institute)\n//indico.ictp.i
 t/event/8714/session/90/contribution/405
LOCATION:ICTP Budinich Lecture Hall
URL://indico.ictp.it/event/8714/session/90/contribution/405
END:VEVENT
BEGIN:VEVENT
SUMMARY:A non-equilibrium system as a demon
DTSTART;VALUE=DATE-TIME:20190828T124500Z
DTEND;VALUE=DATE-TIME:20190828T133000Z
DTSTAMP;VALUE=DATE-TIME:20240229T213623Z
UID:indico-contribution-90-0-406@ictp.it
DESCRIPTION:Speakers: ROBERT WHITNEY (Laboratoire de Physique et Modelisat
 ion des Milieux Condenses)\n//indico.ictp.it/event/8714/session/90/contrib
 ution/406
LOCATION:ICTP Budinich Lecture Hall
URL://indico.ictp.it/event/8714/session/90/contribution/406
END:VEVENT
BEGIN:VEVENT
SUMMARY:Spin and Energy Transport in Integrable and Non-integrable Classic
 al Heisenberg Spin Chain
DTSTART;VALUE=DATE-TIME:20190828T133000Z
DTEND;VALUE=DATE-TIME:20190828T134000Z
DTSTAMP;VALUE=DATE-TIME:20240229T213623Z
UID:indico-contribution-90-0-407@ictp.it
DESCRIPTION:Speakers: AVIJIT DAS (International Centre for Theoretical Sci
 ences\, Bengaluru)\n//indico.ictp.it/event/8714/session/90/contribution/40
 7
LOCATION:ICTP Budinich Lecture Hall
URL://indico.ictp.it/event/8714/session/90/contribution/407
END:VEVENT
BEGIN:VEVENT
SUMMARY:ICTP CMSP Colloquium on Heat to Work Conversion in the Quantum Reg
 ime
DTSTART;VALUE=DATE-TIME:20190828T143000Z
DTEND;VALUE=DATE-TIME:20190828T160000Z
DTSTAMP;VALUE=DATE-TIME:20240229T213623Z
UID:indico-contribution-90-0-408@ictp.it
DESCRIPTION:Speakers: PROF. LILIANA ARRACHEA (Universidad Nacional de San 
 Martin\, Argentina)\nAll participants are most welcome to attend the Collo
 quium.\nMore information can be found at the following link:\nhttp://indic
 o.ictp.it/event/9040/\n\n//indico.ictp.it/event/8714/session/90/contributi
 on/408
LOCATION: Leonardo Building - Euler Lecture Hall
URL://indico.ictp.it/event/8714/session/90/contribution/408
END:VEVENT
END:VCALENDAR
