BEGIN:VCALENDAR
VERSION:2.0
PRODID:-//CERN//INDICO//EN
BEGIN:VEVENT
SUMMARY:Fracture Mechanics
DTSTART;VALUE=DATE-TIME:20190902T093000Z
DTEND;VALUE=DATE-TIME:20190902T110000Z
DTSTAMP;VALUE=DATE-TIME:20240229T212604Z
UID:indico-contribution-1@ictp.it
DESCRIPTION:Speakers: JEAN PAUL AMPUERO (GEOAZUR\, Nice\, France / CALTECH
 \, Pasadena\, USA)\n//indico.ictp.it/event/8715/session/1/contribution/1
LOCATION:ICTP Kastler Lecture Hall (AGH)
URL://indico.ictp.it/event/8715/session/1/contribution/1
END:VEVENT
END:VCALENDAR
