BEGIN:VCALENDAR
VERSION:2.0
PRODID:-//CERN//INDICO//EN
BEGIN:VEVENT
SUMMARY:Ground motions from dynamic models\, contribution of earthquake dy
 namics to strong ground motion prediction
DTSTART;VALUE=DATE-TIME:20190905T070000Z
DTEND;VALUE=DATE-TIME:20190905T083000Z
DTSTAMP;VALUE=DATE-TIME:20240229T212507Z
UID:indico-contribution-12@ictp.it
DESCRIPTION:Speakers: LUIS DALGUER (Kyoto University\, Osaka\, Japan)\n//i
 ndico.ictp.it/event/8715/session/4/contribution/12
LOCATION:ICTP Kastler Lecture Hall (AGH)
URL://indico.ictp.it/event/8715/session/4/contribution/12
END:VEVENT
END:VCALENDAR
