BEGIN:VCALENDAR
VERSION:2.0
PRODID:-//CERN//INDICO//EN
BEGIN:VEVENT
SUMMARY:Macroscopic source properties: source time functions\, corner freq
 uency\, radiated energy\, scaling laws
DTSTART;VALUE=DATE-TIME:20190906T070000Z
DTEND;VALUE=DATE-TIME:20190906T083000Z
DTSTAMP;VALUE=DATE-TIME:20240229T212806Z
UID:indico-contribution-16@ictp.it
DESCRIPTION:Speakers: JEAN-PAUL AMPUERO ()\n//indico.ictp.it/event/8715/se
 ssion/5/contribution/16
LOCATION:ICTP Adriatico Guest House - Kastler Lecture Hall
URL://indico.ictp.it/event/8715/session/5/contribution/16
END:VEVENT
END:VCALENDAR
