BEGIN:VCALENDAR
VERSION:2.0
PRODID:-//CERN//INDICO//EN
BEGIN:VEVENT
SUMMARY:Dynamic rupture simulation methods
DTSTART;VALUE=DATE-TIME:20190903T120000Z
DTEND;VALUE=DATE-TIME:20190903T133000Z
DTSTAMP;VALUE=DATE-TIME:20240229T212556Z
UID:indico-contribution-6@ictp.it
DESCRIPTION:Speakers: LUIS DALGUER (Kyoto University\, Osaka\, Japan)\n//i
 ndico.ictp.it/event/8715/session/2/contribution/6
LOCATION:ICTP Adriatico Guest House - Kastler Lecture Hall
URL://indico.ictp.it/event/8715/session/2/contribution/6
END:VEVENT
END:VCALENDAR
