BEGIN:VCALENDAR
VERSION:2.0
PRODID:-//CERN//INDICO//EN
BEGIN:VEVENT
SUMMARY:Practice: Dynamic rupture in 2D and 2.5D
DTSTART;VALUE=DATE-TIME:20190903T140000Z
DTEND;VALUE=DATE-TIME:20190903T153000Z
DTSTAMP;VALUE=DATE-TIME:20240229T212552Z
UID:indico-contribution-7@ictp.it
DESCRIPTION:Speakers: HUIHUI WENG (GEOAZUR\, Nice\, France)\n//indico.ictp
 .it/event/8715/session/2/contribution/7
LOCATION:ICTP Adriatico Guest House - Informatics Lab
URL://indico.ictp.it/event/8715/session/2/contribution/7
END:VEVENT
END:VCALENDAR
