BEGIN:VCALENDAR
VERSION:2.0
PRODID:-//CERN//INDICO//EN
BEGIN:VEVENT
SUMMARY:3D dynamic rupture modeling
DTSTART;VALUE=DATE-TIME:20190904T090000Z
DTEND;VALUE=DATE-TIME:20190904T103000Z
DTSTAMP;VALUE=DATE-TIME:20240229T212516Z
UID:indico-contribution-9@ictp.it
DESCRIPTION:Speakers: ALICE GABRIEL (Ludwig-Maximilians-Universität\, Mun
 ich\, Germany)\n//indico.ictp.it/event/8715/session/3/contribution/9
LOCATION:ICTP Adriatico Guest House - Kastler Lecture Hall
URL://indico.ictp.it/event/8715/session/3/contribution/9
END:VEVENT
END:VCALENDAR
