BEGIN:VCALENDAR
VERSION:2.0
PRODID:-//CERN//INDICO//EN
BEGIN:VEVENT
SUMMARY:Friction laws for seismic and aseismic faulting
DTSTART;VALUE=DATE-TIME:20190910T070000Z
DTEND;VALUE=DATE-TIME:20190910T083000Z
DTSTAMP;VALUE=DATE-TIME:20240229T212748Z
UID:indico-contribution-9-0-27@ictp.it
DESCRIPTION:Speakers: MARCO SCUDERI (La Sapienza University\,  Rome\, Ital
 y)\n//indico.ictp.it/event/8715/session/9/contribution/27
LOCATION:ICTP Kastler Lecture Hall (AGH)
URL://indico.ictp.it/event/8715/session/9/contribution/27
END:VEVENT
BEGIN:VEVENT
SUMMARY:Friction laws for seismic and aseismic faulting (continued)
DTSTART;VALUE=DATE-TIME:20190910T090000Z
DTEND;VALUE=DATE-TIME:20190910T103000Z
DTSTAMP;VALUE=DATE-TIME:20240229T212748Z
UID:indico-contribution-9-0-28@ictp.it
DESCRIPTION:Speakers: MARCO SCUDERI (La Sapienza University\,  Rome\, Ital
 y)\n//indico.ictp.it/event/8715/session/9/contribution/28
LOCATION:ICTP Kastler Lecture Hall (AGH)
URL://indico.ictp.it/event/8715/session/9/contribution/28
END:VEVENT
BEGIN:VEVENT
SUMMARY:The stability of frictional sliding and the spectrum of fault slip
  behavior from slow to fast stick-slip
DTSTART;VALUE=DATE-TIME:20190910T120000Z
DTEND;VALUE=DATE-TIME:20190910T133000Z
DTSTAMP;VALUE=DATE-TIME:20240229T212748Z
UID:indico-contribution-9-0-29@ictp.it
DESCRIPTION:Speakers: MARCO SCUDERI (Universita' di Roma\, La Sapienza)\n/
 /indico.ictp.it/event/8715/session/9/contribution/29
LOCATION:ICTP Kastler Lecture Hall (AGH)
URL://indico.ictp.it/event/8715/session/9/contribution/29
END:VEVENT
BEGIN:VEVENT
SUMMARY:Practice: Earthquake cycle modeling
DTSTART;VALUE=DATE-TIME:20190910T140000Z
DTEND;VALUE=DATE-TIME:20190910T153000Z
DTSTAMP;VALUE=DATE-TIME:20240229T212748Z
UID:indico-contribution-9-0-30@ictp.it
DESCRIPTION:Speakers: JEAN-PAUL AMPUERO (GEOAZUR\, Nice\, France)\n//indic
 o.ictp.it/event/8715/session/9/contribution/30
LOCATION:ICTP Adriatico Guest House - Informatics Lab
URL://indico.ictp.it/event/8715/session/9/contribution/30
END:VEVENT
END:VCALENDAR
