BEGIN:VCALENDAR
VERSION:2.0
PRODID:-//CERN//INDICO//EN
BEGIN:VEVENT
SUMMARY:Comments on Mellin Amplitudes
DTSTART;VALUE=DATE-TIME:20190904T091000Z
DTEND;VALUE=DATE-TIME:20190904T094000Z
DTSTAMP;VALUE=DATE-TIME:20240229T212033Z
UID:indico-contribution-281@ictp.it
DESCRIPTION:Speakers: JOAO MIGUEL PENEDONES FERNANDES (EPFL\, Lausanne)\n/
 /indico.ictp.it/event/8716/session/54/contribution/281
LOCATION:ICTP Giambiagi Lecture Hall (AGH)
URL://indico.ictp.it/event/8716/session/54/contribution/281
END:VEVENT
END:VCALENDAR
