BEGIN:VCALENDAR
VERSION:2.0
PRODID:-//CERN//INDICO//EN
BEGIN:VEVENT
SUMMARY:A SUSY RG-flow using Hamiltonian methods
DTSTART;VALUE=DATE-TIME:20190904T130000Z
DTEND;VALUE=DATE-TIME:20190904T133000Z
DTSTAMP;VALUE=DATE-TIME:20240229T212029Z
UID:indico-contribution-284@ictp.it
DESCRIPTION:Speakers: EMANUEL KATZ (Boston University)\n//indico.ictp.it/e
 vent/8716/session/54/contribution/284
LOCATION:ICTP Giambiagi Lecture Hall (AGH)
URL://indico.ictp.it/event/8716/session/54/contribution/284
END:VEVENT
END:VCALENDAR
