BEGIN:VCALENDAR
VERSION:2.0
PRODID:-//CERN//INDICO//EN
BEGIN:VEVENT
SUMMARY:Flux Tube S-matrix Bootstrap
DTSTART;VALUE=DATE-TIME:20190903T150000Z
DTEND;VALUE=DATE-TIME:20190903T153000Z
DTSTAMP;VALUE=DATE-TIME:20240229T212021Z
UID:indico-contribution-289@ictp.it
DESCRIPTION:Speakers: ELIAS MIRO (SISSA)\n//indico.ictp.it/event/8716/sess
 ion/53/contribution/289
LOCATION:ICTP Giambiagi Lecture Hall (AGH)
URL://indico.ictp.it/event/8716/session/53/contribution/289
END:VEVENT
END:VCALENDAR
