BEGIN:VCALENDAR
VERSION:2.0
PRODID:-//CERN//INDICO//EN
BEGIN:VEVENT
SUMMARY:Vacuum structure of 2d adjoint QCD -- anomaly\, mod 2 index\, and 
 semiclassics
DTSTART;VALUE=DATE-TIME:20190906T092000Z
DTEND;VALUE=DATE-TIME:20190906T095000Z
DTSTAMP;VALUE=DATE-TIME:20240229T212034Z
UID:indico-contribution-296@ictp.it
DESCRIPTION:Speakers: YUYA TANIZAKI (North Carolina State University)\n//i
 ndico.ictp.it/event/8716/session/56/contribution/296
LOCATION:ICTP Giambiagi Lecture Hall (AGH)
URL://indico.ictp.it/event/8716/session/56/contribution/296
END:VEVENT
END:VCALENDAR
