BEGIN:VCALENDAR
VERSION:2.0
PRODID:-//CERN//INDICO//EN
BEGIN:VEVENT
SUMMARY:Resurgence and Non-perturbative Physics
DTSTART;VALUE=DATE-TIME:20190905T073000Z
DTEND;VALUE=DATE-TIME:20190905T082000Z
DTSTAMP;VALUE=DATE-TIME:20240229T212039Z
UID:indico-contribution-55-0-287@ictp.it
DESCRIPTION:Speakers: GERARD DUNNE (UCONN\, Usa)\n//indico.ictp.it/event/8
 716/session/55/contribution/287
LOCATION:ICTP Giambiagi Lecture Hall (AGH)
URL://indico.ictp.it/event/8716/session/55/contribution/287
END:VEVENT
BEGIN:VEVENT
SUMMARY:Hot and cold domain walls and anomaly matching
DTSTART;VALUE=DATE-TIME:20190905T091000Z
DTEND;VALUE=DATE-TIME:20190905T094000Z
DTSTAMP;VALUE=DATE-TIME:20240229T212039Z
UID:indico-contribution-55-0-288@ictp.it
DESCRIPTION:Speakers: ERICH POPPITZ (University of Toronto)\n//indico.ictp
 .it/event/8716/session/55/contribution/288
LOCATION:ICTP Giambiagi Lecture Hall (AGH)
URL://indico.ictp.it/event/8716/session/55/contribution/288
END:VEVENT
BEGIN:VEVENT
SUMMARY:On QFT in AdS
DTSTART;VALUE=DATE-TIME:20190905T094000Z
DTEND;VALUE=DATE-TIME:20190905T101000Z
DTSTAMP;VALUE=DATE-TIME:20240229T212039Z
UID:indico-contribution-55-0-279@ictp.it
DESCRIPTION:Speakers: BALT VAN REES (Durham University)\n//indico.ictp.it/
 event/8716/session/55/contribution/279
LOCATION:ICTP Giambiagi Lecture Hall (AGH)
URL://indico.ictp.it/event/8716/session/55/contribution/279
END:VEVENT
BEGIN:VEVENT
SUMMARY:TT and the mirage of a bulk cutoff
DTSTART;VALUE=DATE-TIME:20190905T123000Z
DTEND;VALUE=DATE-TIME:20190905T130000Z
DTSTAMP;VALUE=DATE-TIME:20240229T212039Z
UID:indico-contribution-55-0-290@ictp.it
DESCRIPTION:Speakers: MONICA GUICA (IPT CEA\, Saclay)\n//indico.ictp.it/ev
 ent/8716/session/55/contribution/290
LOCATION:ICTP Giambiagi Lecture Hall (AGH)
URL://indico.ictp.it/event/8716/session/55/contribution/290
END:VEVENT
BEGIN:VEVENT
SUMMARY:Dualities of minimally supersymmetric 2d gauge theories
DTSTART;VALUE=DATE-TIME:20190905T130000Z
DTEND;VALUE=DATE-TIME:20190905T133000Z
DTSTAMP;VALUE=DATE-TIME:20240229T212039Z
UID:indico-contribution-55-0-291@ictp.it
DESCRIPTION:Speakers: PAVEL PUTROV (ICTP)\n//indico.ictp.it/event/8716/ses
 sion/55/contribution/291
LOCATION:ICTP Giambiagi Lecture Hall (AGH)
URL://indico.ictp.it/event/8716/session/55/contribution/291
END:VEVENT
BEGIN:VEVENT
SUMMARY:Domain Walls in Super-QCD
DTSTART;VALUE=DATE-TIME:20190905T143000Z
DTEND;VALUE=DATE-TIME:20190905T150000Z
DTSTAMP;VALUE=DATE-TIME:20240229T212039Z
UID:indico-contribution-55-0-292@ictp.it
DESCRIPTION:Speakers: FRANCESCO BENINI (SISSA)\n//indico.ictp.it/event/871
 6/session/55/contribution/292
LOCATION:ICTP Giambiagi Lecture Hall (AGH)
URL://indico.ictp.it/event/8716/session/55/contribution/292
END:VEVENT
BEGIN:VEVENT
SUMMARY:Bootstrapping the spectral density in massive QFTs
DTSTART;VALUE=DATE-TIME:20190905T150000Z
DTEND;VALUE=DATE-TIME:20190905T153000Z
DTSTAMP;VALUE=DATE-TIME:20240229T212039Z
UID:indico-contribution-55-0-293@ictp.it
DESCRIPTION:Speakers: DENIS KARATEEV (Ecole Polytechnique Federale de Laus
 anne)\n//indico.ictp.it/event/8716/session/55/contribution/293
LOCATION:ICTP Giambiagi Lecture Hall (AGH)
URL://indico.ictp.it/event/8716/session/55/contribution/293
END:VEVENT
END:VCALENDAR
