BEGIN:VCALENDAR
VERSION:2.0
PRODID:-//CERN//INDICO//EN
BEGIN:VEVENT
SUMMARY:S12: Narrowing olfactory spaces and the combinatorial receptor cod
 es for odors - Symposium
DTSTART;VALUE=DATE-TIME:20190914T114500Z
DTEND;VALUE=DATE-TIME:20190914T134500Z
DTSTAMP;VALUE=DATE-TIME:20240229T211848Z
UID:indico-contribution-19@ictp.it
DESCRIPTION:Speakers: \n//indico.ictp.it/event/8717/session/3/contribution
 /19
LOCATION:ICTP SISSA building - Auditorium
URL://indico.ictp.it/event/8717/session/3/contribution/19
END:VEVENT
END:VCALENDAR
