BEGIN:VCALENDAR
VERSION:2.0
PRODID:-//CERN//INDICO//EN
BEGIN:VEVENT
SUMMARY:S1: ECRO Young Investigators - Symposium
DTSTART;VALUE=DATE-TIME:20190912T081500Z
DTEND;VALUE=DATE-TIME:20190912T100000Z
DTSTAMP;VALUE=DATE-TIME:20240229T211915Z
UID:indico-contribution-3@ictp.it
DESCRIPTION:Speakers: \n//indico.ictp.it/event/8717/session/1/contribution
 /3
LOCATION:ICTP Leonardo Building - Budinich Lecture Hall
URL://indico.ictp.it/event/8717/session/1/contribution/3
END:VEVENT
END:VCALENDAR
