BEGIN:VCALENDAR
VERSION:2.0
PRODID:-//CERN//INDICO//EN
BEGIN:VEVENT
SUMMARY:Simultaneous Control of Ensembles of Dynamical Systems
DTSTART;VALUE=DATE-TIME:20190920T070000Z
DTEND;VALUE=DATE-TIME:20190920T080000Z
DTSTAMP;VALUE=DATE-TIME:20240229T211459Z
UID:indico-contribution-19@ictp.it
DESCRIPTION:Speakers: SARYCHEV\, Andrey (University of Bonn\, Germany)\n//
 indico.ictp.it/event/8720/session/13/contribution/19
LOCATION:ICTP Budinich Lecture Hall (LB)
URL://indico.ictp.it/event/8720/session/13/contribution/19
END:VEVENT
END:VCALENDAR
