BEGIN:VCALENDAR
VERSION:2.0
PRODID:-//CERN//INDICO//EN
BEGIN:VEVENT
SUMMARY:Mixing for nonlinear PDEs\, perturbed by bounded random forces - I
 II
DTSTART;VALUE=DATE-TIME:20190917T120000Z
DTEND;VALUE=DATE-TIME:20190917T133000Z
DTSTAMP;VALUE=DATE-TIME:20240229T211434Z
UID:indico-contribution-6@ictp.it
DESCRIPTION:Speakers: KUKSIN\, Sergei ()\n//indico.ictp.it/event/8720/sess
 ion/5/contribution/6
LOCATION:ICTP Budinich Lecture Hall (LB)
URL://indico.ictp.it/event/8720/session/5/contribution/6
END:VEVENT
END:VCALENDAR
