BEGIN:VCALENDAR
VERSION:2.0
PRODID:-//CERN//INDICO//EN
BEGIN:VEVENT
SUMMARY:Session 5
DTSTART;VALUE=DATE-TIME:20190917T143000Z
DTEND;VALUE=DATE-TIME:20190917T153000Z
DTSTAMP;VALUE=DATE-TIME:20240229T211924Z
UID:indico-event-6-0@ictp.it
DESCRIPTION:COLLOQUIUM - Jean-Pierre ECKMANN (University of Geneva\, Switz
 erland)\nOptics\, Vision and Evolution after Mitchell Feigenbaum 1944-2019
 \n\n(Light refreshments will be served after the talk)\n\n//indico.ictp.it
 /event/8720/session/6/?slotId=0
LOCATION:ICTP Budinich Lecture Hall (LB)
URL://indico.ictp.it/event/8720/session/6/?slotId=0
END:VEVENT
END:VCALENDAR
