BEGIN:VCALENDAR
VERSION:2.0
PRODID:-//CERN//INDICO//EN
BEGIN:VEVENT
SUMMARY:Introduction of Participants
DTSTART;VALUE=DATE-TIME:20191007T074500Z
DTEND;VALUE=DATE-TIME:20191007T083000Z
DTSTAMP;VALUE=DATE-TIME:20240229T210523Z
UID:indico-contribution-1@ictp.it
DESCRIPTION:Speakers: \n//indico.ictp.it/event/8724/session/3/contribution
 /1
LOCATION:ICTP Giambiagi Lecture Hall (AGH)
URL://indico.ictp.it/event/8724/session/3/contribution/1
END:VEVENT
END:VCALENDAR
