BEGIN:VCALENDAR
VERSION:2.0
PRODID:-//CERN//INDICO//EN
BEGIN:VEVENT
SUMMARY:Introduction to Nuclear Power and Current Nuclear Power Technologi
 es
DTSTART;VALUE=DATE-TIME:20191008T080000Z
DTEND;VALUE=DATE-TIME:20191008T090000Z
DTSTAMP;VALUE=DATE-TIME:20240229T210304Z
UID:indico-contribution-11@ictp.it
DESCRIPTION:Speakers: Mr. PYY\, Pekka (IAEA)\n//indico.ictp.it/event/8724/
 session/6/contribution/11
LOCATION:ICTP Giambiagi Lecture Hall (AGH)
URL://indico.ictp.it/event/8724/session/6/contribution/11
END:VEVENT
END:VCALENDAR
