BEGIN:VCALENDAR
VERSION:2.0
PRODID:-//CERN//INDICO//EN
BEGIN:VEVENT
SUMMARY:Introduction to the Concept of Risk  and Risk Communication
DTSTART;VALUE=DATE-TIME:20191009T080000Z
DTEND;VALUE=DATE-TIME:20191009T090000Z
DTSTAMP;VALUE=DATE-TIME:20240229T210327Z
UID:indico-contribution-19@ictp.it
DESCRIPTION:Speakers: Mr. PYY\, Pekka (IAEA)\n//indico.ictp.it/event/8724/
 session/7/contribution/19
LOCATION:ICTP Giambiagi Lecture Hall (AGH)
URL://indico.ictp.it/event/8724/session/7/contribution/19
END:VEVENT
END:VCALENDAR
