BEGIN:VCALENDAR
VERSION:2.0
PRODID:-//CERN//INDICO//EN
BEGIN:VEVENT
SUMMARY:Group Projects
DTSTART;VALUE=DATE-TIME:20191010T150000Z
DTEND;VALUE=DATE-TIME:20191010T153000Z
DTSTAMP;VALUE=DATE-TIME:20240229T210309Z
UID:indico-contribution-33@ictp.it
DESCRIPTION:Speakers: \n//indico.ictp.it/event/8724/session/8/contribution
 /33
LOCATION:ICTP Giambiagi Lecture Hall (AGH)
URL://indico.ictp.it/event/8724/session/8/contribution/33
END:VEVENT
END:VCALENDAR
