BEGIN:VCALENDAR
VERSION:2.0
PRODID:-//CERN//INDICO//EN
BEGIN:VEVENT
SUMMARY:Group Projects
DTSTART;VALUE=DATE-TIME:20191011T150000Z
DTEND;VALUE=DATE-TIME:20191011T153000Z
DTSTAMP;VALUE=DATE-TIME:20240229T210402Z
UID:indico-contribution-41@ictp.it
DESCRIPTION:Speakers: \n//indico.ictp.it/event/8724/session/9/contribution
 /41
LOCATION:ICTP Giambiagi Lecture Hall (AGH)
URL://indico.ictp.it/event/8724/session/9/contribution/41
END:VEVENT
END:VCALENDAR
