BEGIN:VCALENDAR
VERSION:2.0
PRODID:-//CERN//INDICO//EN
BEGIN:VEVENT
SUMMARY:Syncothron ELETTRA Facility Trieste
DTSTART;VALUE=DATE-TIME:20191017T073000Z
DTEND;VALUE=DATE-TIME:20191017T103000Z
DTSTAMP;VALUE=DATE-TIME:20240229T210353Z
UID:indico-contribution-66@ictp.it
DESCRIPTION:Speakers: Ms. KISKINOVA\, Maya (ELETTRA)\, Mr. GREGORATTI\, Lu
 ca (ELETTRA)\n//indico.ictp.it/event/8724/session/14/contribution/66
LOCATION: Elettra
URL://indico.ictp.it/event/8724/session/14/contribution/66
END:VEVENT
END:VCALENDAR
