BEGIN:VCALENDAR
VERSION:2.0
PRODID:-//CERN//INDICO//EN
BEGIN:VEVENT
SUMMARY:Certificates Award
DTSTART;VALUE=DATE-TIME:20191018T130000Z
DTEND;VALUE=DATE-TIME:20191018T133000Z
DTSTAMP;VALUE=DATE-TIME:20240229T210351Z
UID:indico-contribution-78@ictp.it
DESCRIPTION:Speakers: SCIENTIFIC SECRETARY (IAEA)\n//indico.ictp.it/event/
 8724/session/15/contribution/78
LOCATION:ICTP Adriatico Guest House - Informatics Laboratory
URL://indico.ictp.it/event/8724/session/15/contribution/78
END:VEVENT
END:VCALENDAR
