BEGIN:VCALENDAR
VERSION:2.0
PRODID:-//CERN//INDICO//EN
BEGIN:VEVENT
SUMMARY:Day 6:  Briefing
DTSTART;VALUE=DATE-TIME:20191014T064500Z
DTEND;VALUE=DATE-TIME:20191014T070000Z
DTSTAMP;VALUE=DATE-TIME:20240229T210537Z
UID:indico-contribution-10-0-42@ictp.it
DESCRIPTION:Speakers: SCIENTIFIC SECRETARY (IAEA)\n//indico.ictp.it/event/
 8724/session/10/contribution/42
LOCATION:ICTP Giambiagi Lecture Hall (AGH)
URL://indico.ictp.it/event/8724/session/10/contribution/42
END:VEVENT
BEGIN:VEVENT
SUMMARY:Non-electric Applications of Nuclear Power
DTSTART;VALUE=DATE-TIME:20191014T070000Z
DTEND;VALUE=DATE-TIME:20191014T080000Z
DTSTAMP;VALUE=DATE-TIME:20240229T210537Z
UID:indico-contribution-10-0-43@ictp.it
DESCRIPTION:Speakers: Mr. KHAMIS (VIDEOCONF.)\, Ibrahim (IAEA)\n//indico.i
 ctp.it/event/8724/session/10/contribution/43
LOCATION:ICTP Giambiagi Lecture Hall (AGH)
URL://indico.ictp.it/event/8724/session/10/contribution/43
END:VEVENT
BEGIN:VEVENT
SUMMARY:Overview of the Fuel Cycle
DTSTART;VALUE=DATE-TIME:20191014T080000Z
DTEND;VALUE=DATE-TIME:20191014T090000Z
DTSTAMP;VALUE=DATE-TIME:20240229T210537Z
UID:indico-contribution-10-0-44@ictp.it
DESCRIPTION:Speakers: Ms. MYKOLAICHUK\, Olena (IAEA)\n//indico.ictp.it/eve
 nt/8724/session/10/contribution/44
LOCATION:ICTP Giambiagi Lecture Hall (AGH)
URL://indico.ictp.it/event/8724/session/10/contribution/44
END:VEVENT
BEGIN:VEVENT
SUMMARY:Radioactive Waste Management (1)
DTSTART;VALUE=DATE-TIME:20191014T091500Z
DTEND;VALUE=DATE-TIME:20191014T101500Z
DTSTAMP;VALUE=DATE-TIME:20240229T210537Z
UID:indico-contribution-10-0-45@ictp.it
DESCRIPTION:Speakers: Ms. MYKOLAICHUK\, Olena (IAEA)\n//indico.ictp.it/eve
 nt/8724/session/10/contribution/45
LOCATION:ICTP Giambiagi Lecture Hall (AGH)
URL://indico.ictp.it/event/8724/session/10/contribution/45
END:VEVENT
BEGIN:VEVENT
SUMMARY:Radioactive Waste Management (2
DTSTART;VALUE=DATE-TIME:20191014T101500Z
DTEND;VALUE=DATE-TIME:20191014T111500Z
DTSTAMP;VALUE=DATE-TIME:20240229T210537Z
UID:indico-contribution-10-0-46@ictp.it
DESCRIPTION:Speakers: Ms. MYKOLAICHUK\, Olena (IAEA)\n//indico.ictp.it/eve
 nt/8724/session/10/contribution/46
LOCATION:ICTP Giambiagi Lecture Hall (AGH)
URL://indico.ictp.it/event/8724/session/10/contribution/46
END:VEVENT
BEGIN:VEVENT
SUMMARY:Nuclear Power Technology Evolution
DTSTART;VALUE=DATE-TIME:20191014T121500Z
DTEND;VALUE=DATE-TIME:20191014T131500Z
DTSTAMP;VALUE=DATE-TIME:20240229T210537Z
UID:indico-contribution-10-0-47@ictp.it
DESCRIPTION:Speakers: Mr. REITSMA\, Frederik (IAEA)\n//indico.ictp.it/even
 t/8724/session/10/contribution/47
LOCATION:ICTP Giambiagi Lecture Hall (AGH)
URL://indico.ictp.it/event/8724/session/10/contribution/47
END:VEVENT
BEGIN:VEVENT
SUMMARY:Development of Small Modular Reactors
DTSTART;VALUE=DATE-TIME:20191014T131500Z
DTEND;VALUE=DATE-TIME:20191014T141500Z
DTSTAMP;VALUE=DATE-TIME:20240229T210537Z
UID:indico-contribution-10-0-48@ictp.it
DESCRIPTION:Speakers: Mr. REITSMA\, Frederik (IAEA)\n//indico.ictp.it/even
 t/8724/session/10/contribution/48
LOCATION:ICTP Giambiagi Lecture Hall (AGH)
URL://indico.ictp.it/event/8724/session/10/contribution/48
END:VEVENT
BEGIN:VEVENT
SUMMARY:Discussion\, Q&A Session
DTSTART;VALUE=DATE-TIME:20191014T143000Z
DTEND;VALUE=DATE-TIME:20191014T150000Z
DTSTAMP;VALUE=DATE-TIME:20240229T210537Z
UID:indico-contribution-10-0-49@ictp.it
DESCRIPTION:Speakers: \n//indico.ictp.it/event/8724/session/10/contributio
 n/49
LOCATION:ICTP Giambiagi Lecture Hall (AGH)
URL://indico.ictp.it/event/8724/session/10/contribution/49
END:VEVENT
BEGIN:VEVENT
SUMMARY:Group Projects
DTSTART;VALUE=DATE-TIME:20191014T150000Z
DTEND;VALUE=DATE-TIME:20191014T153000Z
DTSTAMP;VALUE=DATE-TIME:20240229T210537Z
UID:indico-contribution-10-0-50@ictp.it
DESCRIPTION:Speakers: Mr. HYLKO\, Jim (JJE\, LLC)\n//indico.ictp.it/event/
 8724/session/10/contribution/50
LOCATION:ICTP Giambiagi Lecture Hall (AGH)
URL://indico.ictp.it/event/8724/session/10/contribution/50
END:VEVENT
END:VCALENDAR
