BEGIN:VCALENDAR
VERSION:2.0
PRODID:-//CERN//INDICO//EN
BEGIN:VEVENT
SUMMARY:Day 8: Briefing
DTSTART;VALUE=DATE-TIME:20191016T064500Z
DTEND;VALUE=DATE-TIME:20191016T070000Z
DTSTAMP;VALUE=DATE-TIME:20240229T210235Z
UID:indico-contribution-13-0-59@ictp.it
DESCRIPTION:Speakers: SCIENTIFIC SECRETARY (IAEA)\n//indico.ictp.it/event/
 8724/session/13/contribution/59
LOCATION:ICTP Adriatico Guest House - Informatics Laboratory
URL://indico.ictp.it/event/8724/session/13/contribution/59
END:VEVENT
BEGIN:VEVENT
SUMMARY:Plant Operation Principles with Simulators
DTSTART;VALUE=DATE-TIME:20191016T070000Z
DTEND;VALUE=DATE-TIME:20191016T090000Z
DTSTAMP;VALUE=DATE-TIME:20240229T210235Z
UID:indico-contribution-13-0-60@ictp.it
DESCRIPTION:Speakers: Mr. MIASSOEDOV\, Alexei (IAEA)\n//indico.ictp.it/eve
 nt/8724/session/13/contribution/60
LOCATION:ICTP Adriatico Guest House - Informatics Laboratory
URL://indico.ictp.it/event/8724/session/13/contribution/60
END:VEVENT
BEGIN:VEVENT
SUMMARY:Plant Operation Principles with Simulators (cont.)
DTSTART;VALUE=DATE-TIME:20191016T093000Z
DTEND;VALUE=DATE-TIME:20191016T113000Z
DTSTAMP;VALUE=DATE-TIME:20240229T210235Z
UID:indico-contribution-13-0-61@ictp.it
DESCRIPTION:Speakers: Mr. MIASSOEDOV\, Alexei (IAEA)\n//indico.ictp.it/eve
 nt/8724/session/13/contribution/61
LOCATION:ICTP Adriatico Guest House - Informatics Laboratory
URL://indico.ictp.it/event/8724/session/13/contribution/61
END:VEVENT
BEGIN:VEVENT
SUMMARY:Plant Operation Principles with Simulators (cont.)
DTSTART;VALUE=DATE-TIME:20191016T123000Z
DTEND;VALUE=DATE-TIME:20191016T140000Z
DTSTAMP;VALUE=DATE-TIME:20240229T210235Z
UID:indico-contribution-13-0-62@ictp.it
DESCRIPTION:Speakers: Mr. MIASSOEDOV\, Alexei (IAEA)\n//indico.ictp.it/eve
 nt/8724/session/13/contribution/62
LOCATION:ICTP Adriatico Guest House - Informatics Laboratory
URL://indico.ictp.it/event/8724/session/13/contribution/62
END:VEVENT
BEGIN:VEVENT
SUMMARY:Discussion\, Q&A Session
DTSTART;VALUE=DATE-TIME:20191016T143000Z
DTEND;VALUE=DATE-TIME:20191016T150000Z
DTSTAMP;VALUE=DATE-TIME:20240229T210235Z
UID:indico-contribution-13-0-63@ictp.it
DESCRIPTION:Speakers: \n//indico.ictp.it/event/8724/session/13/contributio
 n/63
LOCATION:ICTP Adriatico Guest House - Informatics Laboratory
URL://indico.ictp.it/event/8724/session/13/contribution/63
END:VEVENT
BEGIN:VEVENT
SUMMARY:Group Projects
DTSTART;VALUE=DATE-TIME:20191016T150000Z
DTEND;VALUE=DATE-TIME:20191016T153000Z
DTSTAMP;VALUE=DATE-TIME:20240229T210235Z
UID:indico-contribution-13-0-64@ictp.it
DESCRIPTION:Speakers: Mr. HYLKO\, Jim (JJE\, LLC)\n//indico.ictp.it/event/
 8724/session/13/contribution/64
LOCATION:ICTP Adriatico Guest House - Informatics Laboratory
URL://indico.ictp.it/event/8724/session/13/contribution/64
END:VEVENT
END:VCALENDAR
