BEGIN:VCALENDAR
VERSION:2.0
PRODID:-//CERN//INDICO//EN
BEGIN:VEVENT
SUMMARY:Closing Session
DTSTART;VALUE=DATE-TIME:20191018T133000Z
DTEND;VALUE=DATE-TIME:20191018T140000Z
DTSTAMP;VALUE=DATE-TIME:20240229T210739Z
UID:indico-event-16-0@ictp.it
DESCRIPTION://indico.ictp.it/event/8724/session/16/?slotId=0
LOCATION:ICTP Giambiagi Lecture Hall (AGH)
URL://indico.ictp.it/event/8724/session/16/?slotId=0
END:VEVENT
END:VCALENDAR
