BEGIN:VCALENDAR
VERSION:2.0
PRODID:-//CERN//INDICO//EN
BEGIN:VEVENT
SUMMARY:Registration and administration procedures
DTSTART;VALUE=DATE-TIME:20191007T063000Z
DTEND;VALUE=DATE-TIME:20191007T073000Z
DTSTAMP;VALUE=DATE-TIME:20240229T210741Z
UID:indico-event-2-0@ictp.it
DESCRIPTION://indico.ictp.it/event/8724/session/2/?slotId=0
LOCATION:ICTP Adriatico Guest House - Office 3 (Lower level)
URL://indico.ictp.it/event/8724/session/2/?slotId=0
END:VEVENT
END:VCALENDAR
