BEGIN:VCALENDAR
VERSION:2.0
PRODID:-//CERN//INDICO//EN
BEGIN:VEVENT
SUMMARY:The IAEA and its Services to Member States
DTSTART;VALUE=DATE-TIME:20191007T093000Z
DTEND;VALUE=DATE-TIME:20191007T103000Z
DTSTAMP;VALUE=DATE-TIME:20240229T210323Z
UID:indico-contribution-4-0-3@ictp.it
DESCRIPTION:Speakers: Mr. RIDIKAS\, Danas (IAEA)\n//indico.ictp.it/event/8
 724/session/4/contribution/3
LOCATION:ICTP Giambiagi Lecture Hall (AGH)
URL://indico.ictp.it/event/8724/session/4/contribution/3
END:VEVENT
BEGIN:VEVENT
SUMMARY:IAEA’s Scientific and Technical Knowledge Resources
DTSTART;VALUE=DATE-TIME:20191007T113000Z
DTEND;VALUE=DATE-TIME:20191007T123000Z
DTSTAMP;VALUE=DATE-TIME:20240229T210323Z
UID:indico-contribution-4-0-4@ictp.it
DESCRIPTION:Speakers: Ms. OVANES\, Michaela (IAEA)\n//indico.ictp.it/event
 /8724/session/4/contribution/4
LOCATION:ICTP Giambiagi Lecture Hall (AGH)
URL://indico.ictp.it/event/8724/session/4/contribution/4
END:VEVENT
BEGIN:VEVENT
SUMMARY:Introduction to Nuclear Applications
DTSTART;VALUE=DATE-TIME:20191007T123000Z
DTEND;VALUE=DATE-TIME:20191007T133000Z
DTSTAMP;VALUE=DATE-TIME:20240229T210323Z
UID:indico-contribution-4-0-5@ictp.it
DESCRIPTION:Speakers: Mr. RIDIKAS\, Danas (IAEA)\n//indico.ictp.it/event/8
 724/session/4/contribution/5
LOCATION:ICTP Giambiagi Lecture Hall (AGH)
URL://indico.ictp.it/event/8724/session/4/contribution/5
END:VEVENT
BEGIN:VEVENT
SUMMARY:Introduction to Research Facilities
DTSTART;VALUE=DATE-TIME:20191007T134500Z
DTEND;VALUE=DATE-TIME:20191007T144500Z
DTSTAMP;VALUE=DATE-TIME:20240229T210323Z
UID:indico-contribution-4-0-6@ictp.it
DESCRIPTION:Speakers: Mr. RIDIKAS\, Danas (IAEA)\n//indico.ictp.it/event/8
 724/session/4/contribution/6
LOCATION:ICTP Giambiagi Lecture Hall (AGH)
URL://indico.ictp.it/event/8724/session/4/contribution/6
END:VEVENT
BEGIN:VEVENT
SUMMARY:Discussion\, Q&A Session
DTSTART;VALUE=DATE-TIME:20191007T144500Z
DTEND;VALUE=DATE-TIME:20191007T151500Z
DTSTAMP;VALUE=DATE-TIME:20240229T210323Z
UID:indico-contribution-4-0-7@ictp.it
DESCRIPTION:Speakers: \n//indico.ictp.it/event/8724/session/4/contribution
 /7
LOCATION:ICTP Giambiagi Lecture Hall (AGH)
URL://indico.ictp.it/event/8724/session/4/contribution/7
END:VEVENT
BEGIN:VEVENT
SUMMARY:Distribution of the Group Projects
DTSTART;VALUE=DATE-TIME:20191007T151500Z
DTEND;VALUE=DATE-TIME:20191007T153000Z
DTSTAMP;VALUE=DATE-TIME:20240229T210323Z
UID:indico-contribution-4-0-8@ictp.it
DESCRIPTION:Speakers: Ms. OVANES\, Michaela (IAEA)\n//indico.ictp.it/event
 /8724/session/4/contribution/8
LOCATION:ICTP Giambiagi Lecture Hall (AGH)
URL://indico.ictp.it/event/8724/session/4/contribution/8
END:VEVENT
END:VCALENDAR
