BEGIN:VCALENDAR
VERSION:2.0
PRODID:-//CERN//INDICO//EN
BEGIN:VEVENT
SUMMARY:Day 2: Briefing
DTSTART;VALUE=DATE-TIME:20191008T064500Z
DTEND;VALUE=DATE-TIME:20191008T070000Z
DTSTAMP;VALUE=DATE-TIME:20240229T210524Z
UID:indico-contribution-6-0-9@ictp.it
DESCRIPTION:Speakers: SCIENTIFIC SECRETARY (IAEA)\n//indico.ictp.it/event/
 8724/session/6/contribution/9
LOCATION:ICTP Giambiagi Lecture Hall (AGH)
URL://indico.ictp.it/event/8724/session/6/contribution/9
END:VEVENT
BEGIN:VEVENT
SUMMARY:Introduction to New Builds and the IAEA’s Milestones Approach
DTSTART;VALUE=DATE-TIME:20191008T070000Z
DTEND;VALUE=DATE-TIME:20191008T080000Z
DTSTAMP;VALUE=DATE-TIME:20240229T210524Z
UID:indico-contribution-6-0-10@ictp.it
DESCRIPTION:Speakers: Mr. REYSSET (VIDEOCONF.)\, Thibaud (IAEA)\n//indico.
 ictp.it/event/8724/session/6/contribution/10
LOCATION:ICTP Giambiagi Lecture Hall (AGH)
URL://indico.ictp.it/event/8724/session/6/contribution/10
END:VEVENT
BEGIN:VEVENT
SUMMARY:Introduction to Nuclear Power and Current Nuclear Power Technologi
 es
DTSTART;VALUE=DATE-TIME:20191008T080000Z
DTEND;VALUE=DATE-TIME:20191008T090000Z
DTSTAMP;VALUE=DATE-TIME:20240229T210524Z
UID:indico-contribution-6-0-11@ictp.it
DESCRIPTION:Speakers: Mr. PYY\, Pekka (IAEA)\n//indico.ictp.it/event/8724/
 session/6/contribution/11
LOCATION:ICTP Giambiagi Lecture Hall (AGH)
URL://indico.ictp.it/event/8724/session/6/contribution/11
END:VEVENT
BEGIN:VEVENT
SUMMARY:Introduction to Nuclear Power Plant Life Cycle Management
DTSTART;VALUE=DATE-TIME:20191008T093000Z
DTEND;VALUE=DATE-TIME:20191008T103000Z
DTSTAMP;VALUE=DATE-TIME:20240229T210524Z
UID:indico-contribution-6-0-12@ictp.it
DESCRIPTION:Speakers: Mr. PYY\, Pekka (IAEA)\n//indico.ictp.it/event/8724/
 session/6/contribution/12
LOCATION:ICTP Giambiagi Lecture Hall (AGH)
URL://indico.ictp.it/event/8724/session/6/contribution/12
END:VEVENT
BEGIN:VEVENT
SUMMARY:An Integrated Approach to HRD and Nuclear Knowledge Management
DTSTART;VALUE=DATE-TIME:20191008T113000Z
DTEND;VALUE=DATE-TIME:20191008T123000Z
DTSTAMP;VALUE=DATE-TIME:20240229T210524Z
UID:indico-contribution-6-0-13@ictp.it
DESCRIPTION:Speakers: Ms. OVANES\, Michaela (IAEA)\n//indico.ictp.it/event
 /8724/session/6/contribution/13
LOCATION:ICTP Giambiagi Lecture Hall (AGH)
URL://indico.ictp.it/event/8724/session/6/contribution/13
END:VEVENT
BEGIN:VEVENT
SUMMARY:Discussion\, Q&A Session
DTSTART;VALUE=DATE-TIME:20191008T123000Z
DTEND;VALUE=DATE-TIME:20191008T133000Z
DTSTAMP;VALUE=DATE-TIME:20240229T210524Z
UID:indico-contribution-6-0-14@ictp.it
DESCRIPTION:Speakers: \n//indico.ictp.it/event/8724/session/6/contribution
 /14
LOCATION:ICTP Giambiagi Lecture Hall (AGH)
URL://indico.ictp.it/event/8724/session/6/contribution/14
END:VEVENT
BEGIN:VEVENT
SUMMARY:Nuclear RP Tutorials (Group Exercise)
DTSTART;VALUE=DATE-TIME:20191008T140000Z
DTEND;VALUE=DATE-TIME:20191008T150000Z
DTSTAMP;VALUE=DATE-TIME:20240229T210524Z
UID:indico-contribution-6-0-15@ictp.it
DESCRIPTION:Speakers: \n//indico.ictp.it/event/8724/session/6/contribution
 /15
LOCATION:ICTP Giambiagi Lecture Hall (AGH)
URL://indico.ictp.it/event/8724/session/6/contribution/15
END:VEVENT
BEGIN:VEVENT
SUMMARY:Group Projects
DTSTART;VALUE=DATE-TIME:20191008T150000Z
DTEND;VALUE=DATE-TIME:20191008T153000Z
DTSTAMP;VALUE=DATE-TIME:20240229T210524Z
UID:indico-contribution-6-0-16@ictp.it
DESCRIPTION:Speakers: \n//indico.ictp.it/event/8724/session/6/contribution
 /16
LOCATION:ICTP Giambiagi Lecture Hall (AGH)
URL://indico.ictp.it/event/8724/session/6/contribution/16
END:VEVENT
END:VCALENDAR
