BEGIN:VCALENDAR
VERSION:2.0
PRODID:-//CERN//INDICO//EN
BEGIN:VEVENT
SUMMARY:Day 4:  Briefing
DTSTART;VALUE=DATE-TIME:20191010T064500Z
DTEND;VALUE=DATE-TIME:20191010T070000Z
DTSTAMP;VALUE=DATE-TIME:20240229T210339Z
UID:indico-contribution-8-0-26@ictp.it
DESCRIPTION:Speakers: \n//indico.ictp.it/event/8724/session/8/contribution
 /26
LOCATION:ICTP Giambiagi Lecture Hall (AGH)
URL://indico.ictp.it/event/8724/session/8/contribution/26
END:VEVENT
BEGIN:VEVENT
SUMMARY:Main Principles of Nuclear Installation Safety
DTSTART;VALUE=DATE-TIME:20191010T070000Z
DTEND;VALUE=DATE-TIME:20191010T080000Z
DTSTAMP;VALUE=DATE-TIME:20240229T210339Z
UID:indico-contribution-8-0-27@ictp.it
DESCRIPTION:Speakers: Mr. SANTINI (VIDEOCONF.)\, Miguel (IAEA)\n//indico.i
 ctp.it/event/8724/session/8/contribution/27
LOCATION:ICTP Giambiagi Lecture Hall (AGH)
URL://indico.ictp.it/event/8724/session/8/contribution/27
END:VEVENT
BEGIN:VEVENT
SUMMARY:Radiation Protection and Safety
DTSTART;VALUE=DATE-TIME:20191010T080000Z
DTEND;VALUE=DATE-TIME:20191010T090000Z
DTSTAMP;VALUE=DATE-TIME:20240229T210339Z
UID:indico-contribution-8-0-28@ictp.it
DESCRIPTION:Speakers: Mr. BOAL\, Trevor (Invited Expert)\n//indico.ictp.it
 /event/8724/session/8/contribution/28
LOCATION:ICTP Giambiagi Lecture Hall (AGH)
URL://indico.ictp.it/event/8724/session/8/contribution/28
END:VEVENT
BEGIN:VEVENT
SUMMARY:Emergency Preparedness and Response
DTSTART;VALUE=DATE-TIME:20191010T091500Z
DTEND;VALUE=DATE-TIME:20191010T101500Z
DTSTAMP;VALUE=DATE-TIME:20240229T210339Z
UID:indico-contribution-8-0-29@ictp.it
DESCRIPTION:Speakers: Mr. MARTINCIC\, Rafael (Invited Expert)\n//indico.ic
 tp.it/event/8724/session/8/contribution/29
LOCATION:ICTP Giambiagi Lecture Hall (AGH)
URL://indico.ictp.it/event/8724/session/8/contribution/29
END:VEVENT
BEGIN:VEVENT
SUMMARY:Nuclear Security Fundamentals and Infrastructure
DTSTART;VALUE=DATE-TIME:20191010T111500Z
DTEND;VALUE=DATE-TIME:20191010T131500Z
DTSTAMP;VALUE=DATE-TIME:20240229T210339Z
UID:indico-contribution-8-0-30@ictp.it
DESCRIPTION:Speakers: Mr. TOMAZIC\, Samo (Invited Expert)\n//indico.ictp.i
 t/event/8724/session/8/contribution/30
LOCATION:ICTP Giambiagi Lecture Hall (AGH)
URL://indico.ictp.it/event/8724/session/8/contribution/30
END:VEVENT
BEGIN:VEVENT
SUMMARY:Information and Computer Security
DTSTART;VALUE=DATE-TIME:20191010T133000Z
DTEND;VALUE=DATE-TIME:20191010T143000Z
DTSTAMP;VALUE=DATE-TIME:20240229T210339Z
UID:indico-contribution-8-0-31@ictp.it
DESCRIPTION:Speakers: Mr. TOMAZIC\, Samo (Invited Expert)\n//indico.ictp.i
 t/event/8724/session/8/contribution/31
LOCATION:ICTP Giambiagi Lecture Hall (AGH)
URL://indico.ictp.it/event/8724/session/8/contribution/31
END:VEVENT
BEGIN:VEVENT
SUMMARY:Discussion\, Q&A Session
DTSTART;VALUE=DATE-TIME:20191010T143000Z
DTEND;VALUE=DATE-TIME:20191010T150000Z
DTSTAMP;VALUE=DATE-TIME:20240229T210339Z
UID:indico-contribution-8-0-32@ictp.it
DESCRIPTION:Speakers: \n//indico.ictp.it/event/8724/session/8/contribution
 /32
LOCATION:ICTP Giambiagi Lecture Hall (AGH)
URL://indico.ictp.it/event/8724/session/8/contribution/32
END:VEVENT
BEGIN:VEVENT
SUMMARY:Group Projects
DTSTART;VALUE=DATE-TIME:20191010T150000Z
DTEND;VALUE=DATE-TIME:20191010T153000Z
DTSTAMP;VALUE=DATE-TIME:20240229T210339Z
UID:indico-contribution-8-0-33@ictp.it
DESCRIPTION:Speakers: \n//indico.ictp.it/event/8724/session/8/contribution
 /33
LOCATION:ICTP Giambiagi Lecture Hall (AGH)
URL://indico.ictp.it/event/8724/session/8/contribution/33
END:VEVENT
END:VCALENDAR
