BEGIN:VCALENDAR
VERSION:2.0
PRODID:-//CERN//INDICO//EN
BEGIN:VEVENT
SUMMARY:1. Analysis Support for Enhanced Nuclear Energy Sustainability:  I
 AEA/INPRO service to Member States
DTSTART;VALUE=DATE-TIME:20191016T070000Z
DTEND;VALUE=DATE-TIME:20191016T080000Z
DTSTAMP;VALUE=DATE-TIME:20240229T205842Z
UID:indico-contribution-12@ictp.it
DESCRIPTION:Speakers: KUZNETSOV\, Vladimir (IAEA)\n//indico.ictp.it/event/
 8725/session/3/contribution/12
LOCATION:ICTP Euler Lecture Hall (LB)
URL://indico.ictp.it/event/8725/session/3/contribution/12
END:VEVENT
END:VCALENDAR
