BEGIN:VCALENDAR
VERSION:2.0
PRODID:-//CERN//INDICO//EN
BEGIN:VEVENT
SUMMARY:3. Nuclear Desalination
DTSTART;VALUE=DATE-TIME:20191017T093000Z
DTEND;VALUE=DATE-TIME:20191017T103000Z
DTSTAMP;VALUE=DATE-TIME:20240229T205856Z
UID:indico-contribution-20@ictp.it
DESCRIPTION:Speakers: KHAMIS\, Ibrahim (IAEA)\n//indico.ictp.it/event/8725
 /session/4/contribution/20
LOCATION:ICTP Euler Lecture Hall (LB)
URL://indico.ictp.it/event/8725/session/4/contribution/20
END:VEVENT
END:VCALENDAR
