BEGIN:VCALENDAR
VERSION:2.0
PRODID:-//CERN//INDICO//EN
BEGIN:VEVENT
SUMMARY:4. Fundamentals and Innovative Designs of Molten-Salt Reactors
DTSTART;VALUE=DATE-TIME:20191014T123000Z
DTEND;VALUE=DATE-TIME:20191014T133000Z
DTSTAMP;VALUE=DATE-TIME:20240229T205843Z
UID:indico-contribution-3@ictp.it
DESCRIPTION:Speakers: BUIJS\, Adriaan (McMaster University\, Hamilton\, On
 tario\, Canada)\n//indico.ictp.it/event/8725/session/1/contribution/3
LOCATION:ICTP Euler Lecture Hall (LB)
URL://indico.ictp.it/event/8725/session/1/contribution/3
END:VEVENT
END:VCALENDAR
