BEGIN:VCALENDAR
VERSION:2.0
PRODID:-//CERN//INDICO//EN
BEGIN:VEVENT
SUMMARY:5. General information on MSRs programme in the Russian Federation
DTSTART;VALUE=DATE-TIME:20191014T140000Z
DTEND;VALUE=DATE-TIME:20191014T150000Z
DTSTAMP;VALUE=DATE-TIME:20240229T205853Z
UID:indico-contribution-4@ictp.it
DESCRIPTION:Speakers: FEYNBERG\, Olga (NRCKI\, Russia)\n//indico.ictp.it/e
 vent/8725/session/1/contribution/4
LOCATION:ICTP Euler Lecture Hall (LB)
URL://indico.ictp.it/event/8725/session/1/contribution/4
END:VEVENT
END:VCALENDAR
