BEGIN:VCALENDAR
VERSION:2.0
PRODID:-//CERN//INDICO//EN
BEGIN:VEVENT
SUMMARY:Diurnal and Seasonal investigation of the performance of IRI-2007\
 , IRI-2012\, IRI-2016 and Ne-quick models over some African Equatorial Sta
 tions
DTSTART;VALUE=DATE-TIME:20191008T142500Z
DTEND;VALUE=DATE-TIME:20191008T144500Z
DTSTAMP;VALUE=DATE-TIME:20240229T210016Z
UID:indico-contribution-32@ictp.it
DESCRIPTION:Speakers: B. W. JOSHUA ET AL. (Kebbi State University of Scien
 ce and Technology\, Nigeria)\n//indico.ictp.it/event/8726/session/8/contri
 bution/32
LOCATION:ICTP Leonardo Building - Euler Lecture Hall
URL://indico.ictp.it/event/8726/session/8/contribution/32
END:VEVENT
END:VCALENDAR
