BEGIN:VCALENDAR
VERSION:2.0
PRODID:-//CERN//INDICO//EN
BEGIN:VEVENT
SUMMARY:Assessment of the NeQuick-2 and IRI-Plas 2017 models using global 
 and long-term GNSS measurements
DTSTART;VALUE=DATE-TIME:20191009T073000Z
DTEND;VALUE=DATE-TIME:20191009T075000Z
DTSTAMP;VALUE=DATE-TIME:20240229T210032Z
UID:indico-contribution-37@ictp.it
DESCRIPTION:Speakers: D. OKOH ET AL. (NASRDA Center for Atmospheric Resear
 ch\, Nigeria)\n//indico.ictp.it/event/8726/session/9/contribution/37
LOCATION:ICTP Leonardo Building - Euler Lecture Hall
URL://indico.ictp.it/event/8726/session/9/contribution/37
END:VEVENT
END:VCALENDAR
