BEGIN:VCALENDAR
VERSION:2.0
PRODID:-//CERN//INDICO//EN
BEGIN:VEVENT
SUMMARY:A Comparative Study of hmF2 using Different ionospheric models pre
 diction at Ouagadougou Equatorial west African Anomaly Station
DTSTART;VALUE=DATE-TIME:20191009T092000Z
DTEND;VALUE=DATE-TIME:20191009T094000Z
DTSTAMP;VALUE=DATE-TIME:20240229T205941Z
UID:indico-contribution-41@ictp.it
DESCRIPTION:Speakers: O. E. ABE ET AL. (Federal University Oye-Ekiti\, Nig
 eria)\n//indico.ictp.it/event/8726/session/10/contribution/41
LOCATION:ICTP Leonardo Building - Euler Lecture Hall
URL://indico.ictp.it/event/8726/session/10/contribution/41
END:VEVENT
END:VCALENDAR
