BEGIN:VCALENDAR
VERSION:2.0
PRODID:-//CERN//INDICO//EN
BEGIN:VEVENT
SUMMARY:OPEN DISCUSSION
DTSTART;VALUE=DATE-TIME:20191009T142000Z
DTEND;VALUE=DATE-TIME:20191009T152000Z
DTSTAMP;VALUE=DATE-TIME:20240229T210054Z
UID:indico-contribution-49@ictp.it
DESCRIPTION:Speakers: \n//indico.ictp.it/event/8726/session/11/contributio
 n/49
LOCATION:ICTP Leonardo Building - Euler Lecture Hall
URL://indico.ictp.it/event/8726/session/11/contribution/49
END:VEVENT
END:VCALENDAR
