BEGIN:VCALENDAR
VERSION:2.0
PRODID:-//CERN//INDICO//EN
BEGIN:VEVENT
SUMMARY:Comparison between NeQuick TEC and ionosonde foF2 ingested TEC ove
 r Athens\, Vanimo and Chongqing during deep solar minimum year 2008
DTSTART;VALUE=DATE-TIME:20191010T075000Z
DTEND;VALUE=DATE-TIME:20191010T081000Z
DTSTAMP;VALUE=DATE-TIME:20240229T210002Z
UID:indico-contribution-52@ictp.it
DESCRIPTION:Speakers: B. GUL (NED University of Engineering and Technology
 \, Pakistan)\n//indico.ictp.it/event/8726/session/12/contribution/52
LOCATION:ICTP Leonardo Building - Euler Lecture Hall
URL://indico.ictp.it/event/8726/session/12/contribution/52
END:VEVENT
END:VCALENDAR
