BEGIN:VCALENDAR
VERSION:2.0
PRODID:-//CERN//INDICO//EN
BEGIN:VEVENT
SUMMARY:Real-time Ionospheric Error Correction with NeQuick model: Method 
 and Analysis
DTSTART;VALUE=DATE-TIME:20191010T094000Z
DTEND;VALUE=DATE-TIME:20191010T100000Z
DTSTAMP;VALUE=DATE-TIME:20240229T210020Z
UID:indico-contribution-56@ictp.it
DESCRIPTION:Speakers: N. WANG AND Z. LI (Aerospace Information Research In
 stitute (CAS)\, China)\n//indico.ictp.it/event/8726/session/13/contributio
 n/56
LOCATION:ICTP Leonardo Building - Euler Lecture Hall
URL://indico.ictp.it/event/8726/session/13/contribution/56
END:VEVENT
END:VCALENDAR
