BEGIN:VCALENDAR
VERSION:2.0
PRODID:-//CERN//INDICO//EN
BEGIN:VEVENT
SUMMARY:Incoherent scatter radar observations of ionospheric electron dens
 ity disturbances over mid-latitude European region
DTSTART;VALUE=DATE-TIME:20191010T120000Z
DTEND;VALUE=DATE-TIME:20191010T122000Z
DTSTAMP;VALUE=DATE-TIME:20240229T210027Z
UID:indico-contribution-58@ictp.it
DESCRIPTION:Speakers: K. D. AKSONOVA (Institute of Radio)\n//indico.ictp.i
 t/event/8726/session/14/contribution/58
LOCATION:ICTP Leonardo Building - Euler Lecture Hall
URL://indico.ictp.it/event/8726/session/14/contribution/58
END:VEVENT
END:VCALENDAR
